BEGIN:VCALENDAR
VERSION:2.0
PRODID:-//hacksw/handcal//NONSGML v1.0//EN
CALSCALE:GREGORIAN
BEGIN:VEVENT
UID:69e767caebb4e
DTSTAMP:20260421T120426Z
DESCRIPTION:Concordia's Empower Entrepreneurship Retreat is a&nbsp\;five-day\, four-night on-campus experience for high school girls entering their sophomore\, junior\, or senior year. Designed to strengthen identity and leadership skills\, the program equips participants with practical tools in entrepreneurship and well-being.
June&nbsp\;15-19\,&nbsp\;2026
Learn More
SUMMARY:Empower Entrepreneurship Retreat — For High School Girls
DTSTART:20260615
DTEND:20260615
END:VEVENT
END:VCALENDAR
