BEGIN:VCALENDAR
VERSION:2.0
PRODID:-//hacksw/handcal//NONSGML v1.0//EN
CALSCALE:GREGORIAN
BEGIN:VEVENT
UID:69e639938e053
DTSTAMP:20260420T143459Z
DESCRIPTION:South of Jake Christiansen Stadium
SUMMARY:Homecoming Bonfire and Fireworks
DTSTART:20251003T014500Z
DTEND:20251003T045959Z
END:VEVENT
END:VCALENDAR
